BEGIN:VCALENDAR
VERSION:2.0
PRODID:-//Growl Theatre - ECPv6.15.17.1//NONSGML v1.0//EN
CALSCALE:GREGORIAN
METHOD:PUBLISH
X-WR-CALNAME:Growl Theatre
X-ORIGINAL-URL:https://growltheatre.org.au
X-WR-CALDESC:Events for Growl Theatre
REFRESH-INTERVAL;VALUE=DURATION:PT1H
X-Robots-Tag:noindex
X-PUBLISHED-TTL:PT1H
BEGIN:VTIMEZONE
TZID:Australia/Melbourne
BEGIN:STANDARD
TZOFFSETFROM:+1100
TZOFFSETTO:+1000
TZNAME:AEST
DTSTART:20160402T160000
END:STANDARD
BEGIN:DAYLIGHT
TZOFFSETFROM:+1000
TZOFFSETTO:+1100
TZNAME:AEDT
DTSTART:20161001T160000
END:DAYLIGHT
BEGIN:STANDARD
TZOFFSETFROM:+1100
TZOFFSETTO:+1000
TZNAME:AEST
DTSTART:20170401T160000
END:STANDARD
BEGIN:DAYLIGHT
TZOFFSETFROM:+1000
TZOFFSETTO:+1100
TZNAME:AEDT
DTSTART:20170930T160000
END:DAYLIGHT
BEGIN:STANDARD
TZOFFSETFROM:+1100
TZOFFSETTO:+1000
TZNAME:AEST
DTSTART:20180331T160000
END:STANDARD
BEGIN:DAYLIGHT
TZOFFSETFROM:+1000
TZOFFSETTO:+1100
TZNAME:AEDT
DTSTART:20181006T160000
END:DAYLIGHT
BEGIN:STANDARD
TZOFFSETFROM:+1100
TZOFFSETTO:+1000
TZNAME:AEST
DTSTART:20190406T160000
END:STANDARD
BEGIN:DAYLIGHT
TZOFFSETFROM:+1000
TZOFFSETTO:+1100
TZNAME:AEDT
DTSTART:20191005T160000
END:DAYLIGHT
BEGIN:STANDARD
TZOFFSETFROM:+1100
TZOFFSETTO:+1000
TZNAME:AEST
DTSTART:20200404T160000
END:STANDARD
BEGIN:DAYLIGHT
TZOFFSETFROM:+1000
TZOFFSETTO:+1100
TZNAME:AEDT
DTSTART:20201003T160000
END:DAYLIGHT
END:VTIMEZONE
BEGIN:VEVENT
DTSTART;TZID=Australia/Melbourne:20190208T193000
DTEND;TZID=Australia/Melbourne:20190223T193000
DTSTAMP:20260424T064412
CREATED:20181120T025255Z
LAST-MODIFIED:20190514T221726Z
UID:3742-1549654200-1550950200@growltheatre.org.au
SUMMARY:Summer Wonderland
DESCRIPTION:Summer Wonderland\nby Matthew Ryan. Directed by Leisa Bye and Alexia Suttor. \nA hilarious Christmas comedy about fake snow\, fairy lights\, and the great Australian Dream. \n \n\nLife was supposed to work out differently for Foster Jones. Dreams of travelling the world were put on hold to support his overbearing and unemployed father\, Bob. \nBut when a Christmas Lights Competition offers a hundred thousand dollar prize\, the neighbourhood goes to war. Houses are decorated and displays are sabotaged. And while Bob battles the snobs across the road\, Foster finds himself caught between betraying his family and escaping his father once and for all. \nA whimsical tribute to the Australian suburbs\, Summer Wonderland is a wonderful Christmas treat! \nCAST\n\nFoster: Aidan O’Donnell\n\nBob: Brayden Argent\nDemoiselle: Jaylin Purtill\nMarti: Melanie Kempton\nEugene: Luke Johnstone\nSvetlana: Lauren Flood\nGustav: Matteo Melzi\nMrs Slade: Kathleen Yorston
URL:https://growltheatre.org.au/event/summer-wonderland/
LOCATION:Windsor School of Arts\, 381 Lutwyche Rd\, Windsor\, QLD\, 4030\, Australia
CATEGORIES:Play
ATTACH;FMTTYPE=image/jpeg:https://growltheatre.org.au/wp-content/uploads/2018/11/SummerWonderland_trybookingheader.jpg
END:VEVENT
BEGIN:VEVENT
DTSTART;TZID=Australia/Melbourne:20181026T193000
DTEND;TZID=Australia/Melbourne:20181103T193000
DTSTAMP:20260424T064412
CREATED:20180731T113601Z
LAST-MODIFIED:20181015T235638Z
UID:3500-1540582200-1541273400@growltheatre.org.au
SUMMARY:Fumo negli occhi
DESCRIPTION:Growl Theatre and Danteatro Brisbane present an Italian language production (with English surtitles). \n \nWe’re bringing Italian theatre back to Brisbane!  After last year’s sell-out Italian language production\, Danteatro and Growl Theatre are collaborating again to present a show entirely in Italian. With English translation displayed above the stage (surtitles) for those who don’t speak the language\, or for hearing impaired. \n\n\n\nFUMO NEGLI OCCHI\ncommedia brillante in due atti di Faele e Romano\nregia di Matteo Melzi\n“Keeping up with the Brandolinis”\nA comedy in two acts by Faele and Romano\nDirected by Matteo Melzi\n\n\n\n \n\nSYNOPSIS \nKeeping up appearances in front of the neighbours takes hard work and clever tactics. All the more so when we are in 1960s Italy\, with the economy booming\, incomes rising\, and more and more households acquiring consumer goods such as a fridge\, a car\, or a television set. Meanwhile\, young people are rebelling – embracing revolutionary politics\, rock music and… yoga! \nTeresa Brandolini’s mission of upholding her family’s dignity and respectability\, while the neighbours flaunt their superior spending power\, requires her to maintain an elaborate smokescreen for onlookers (‘fumo negli occhi’) – a labour of love into which her teenage daughter\, eternal-student son and long-suffering husband are co-opted. When her arch-rival\, signora De Marchi\, brags that she is off to the Isle of Capri just for the weekend\, Teresa plans her revenge\, Brandolini-style! Will she win out in the reputation stakes\, or will the antics of family members\, the maid\, and an oppressed\, non-unionised burglar spin things wildly out of her control? \nFrom the local Italian language theatre group who brought you sold out performances of One Was Nude and One Wore Tails\, Carnival of the Insects and …la gallina canta\, don’t miss Danteatro’s new comedy\, Keeping Up with the Brandolinis! Performed in Italian with English surtitles. \n\n \n\n\nCAST \n\n\n\nCHARACTER\n\nPLAYED BY\n\n\nCarlo Brandolini\nA bank clerk\nVincenzo Ferraioli\n\n\nTeresa Brandolini\nHis wife\nCamilla Peverati\n\n\nPatrizia Brandolini\nTheir daughter\nChiara Castellani\n\n\nLello Brandolini\nTheir son\nDaniel Giorgi\n\n\nNonna\nGranny\, Carlo’s mother\nEleonora Ginardi TBC\n\n\nLa signora De Marchi\nMrs De Marchi\, a neighbour\nTiziana Miceli\n\n\nMarietta\nThe Brandolinis’ maid\nAngela Di Capua\n\n\nLadro\nBurglar\nMatteo Melzi\n\n\nVoce fuori campo di un soldato\nVoice of a soldier\, off-stage\nTBC
URL:https://growltheatre.org.au/event/fumo-negli-occhi/
LOCATION:Windsor School of Arts\, 381 Lutwyche Rd\, Windsor\, QLD\, 4030\, Australia
CATEGORIES:Play
ATTACH;FMTTYPE=image/jpeg:https://growltheatre.org.au/wp-content/uploads/2018/07/FUMO-TrybookingHeader.jpg
ORGANIZER;CN="Growl Theatre":MAILTO:boxoffice@growltheatre.org.au
END:VEVENT
BEGIN:VEVENT
DTSTART;TZID=Australia/Melbourne:20180817T193000
DTEND;TZID=Australia/Melbourne:20180902T120000
DTSTAMP:20260424T064412
CREATED:20171219T050835Z
LAST-MODIFIED:20180819T114917Z
UID:3240-1534534200-1535889600@growltheatre.org.au
SUMMARY:My Pet Human
DESCRIPTION:Sunday 26th matinee has SOLD OUT! An extra Sunday matinee has been added due to popular demand. This show will start at 10am on Sunday 2nd September\, with doors opening at 9:30am. \n\nMy Pet Human\nWritten by Leah Pellinkhof.  Directed by Julie Bray \nA heart-warming comedy about people dogs and their pet dogs humans. \nWhen Ben finds a lost clueless Fox Terrier pup\, Bow\, his world is turned upside down when he encounters an extraordinary bunch of Canine lovers. With their assistance Ben grows to understand the special bond between humans and their pet dogs. \nWhen Bow finds a lost naive student Ben\, his world is turned upside down when he encounters a pack of weird and wonderful people-loving pooches. With their help\, Bow grows to appreciate the special bond between dogs and their pet humans. \nMy Pet Human was first performed\, August 2nd 2008 at Front Row Theatre Company (Hamilton Town Hall).\n \n\n \nCAST\nBen/Bow … Oliver Cameron\nGemma/Giddi … Julie Stewart\nRoger/Riff … Brendan James\nLydia/Lady … Lauren Flood\nDave/Duke … John Sayles\nAlfred/Auggie … Paul Whelan\nIda/Izabella … Vivien Whittle\nKipper … Tasmin Gandhi\, Ruben Gandhi\, Maya Lee \nABOUT THE AUTHOR\nLeah is a writer\, director\, actor and producer of both theatre and film. With work ranging from Shakespeare to stand-up comedy\, she has a long history and interest in a variety of performance forms and a deep commitment to the development and production of original work. \nHer original productions have scored her many accolades in her home town of Brisbane. The Works of William Shakespeare (BY CHICKS) was acknowledged with a Dell’Arte award for best play\, the Matilda-award-nominated My Pet Human also won her a Dell’Arte Award for favourite playwright. Her short film Chook and Maureen won the Tropical Alternative Film Festival Award and many of her productions have received rave reviews\, sell out seasons and audience acclaim. \nHer writing credits include the short films Count The Ways and Lingerie Lunacy\, the web series Queersland\, and the plays Shakespeare’s Girly bits and Hamilton Hall: The Musical. She also co-wrote Tuckshop: The Musical\, Macbeth for Wayward Girls\, Holding Hands In Public and Bump (with Julie Bray). \nLeah holds an Advanced Diploma in Acting\, a Bachelor of Creative Arts in Film and Television and a Certificate IV in Training and Assessment\, the latter being another of her passions. She is an encouraging\, engaging\, and nurturing performing arts teacher\, having worked at various acting schools in Brisbane for over a decade and more recently at Sydney Theatre School and at NIDA Open. She is passionate about developing emerging talent\, entertaining audiences\, working with actors and telling stories that both challenge and inspire.
URL:https://growltheatre.org.au/event/my-pet-human/
LOCATION:Windsor School of Arts\, 381 Lutwyche Rd\, Windsor\, QLD\, 4030\, Australia
CATEGORIES:Play
ATTACH;FMTTYPE=image/jpeg:https://growltheatre.org.au/wp-content/uploads/2017/12/MPH-webnodetails-landscape-1.jpg
ORGANIZER;CN="Growl Theatre":MAILTO:boxoffice@growltheatre.org.au
END:VEVENT
BEGIN:VEVENT
DTSTART;TZID=Australia/Melbourne:20180511T193000
DTEND;TZID=Australia/Melbourne:20180526T220000
DTSTAMP:20260424T064412
CREATED:20171219T050059Z
LAST-MODIFIED:20180520T224016Z
UID:3236-1526067000-1527372000@growltheatre.org.au
SUMMARY:Figaro
DESCRIPTION:Figaro\nby Charles Morey\nFreely adapted from Beaumarchais’ “Le Mariage de Figaro” \nA delightful comedy about a scheming servant\, a lecherous Count and the smart women in their lives. \nHe’s getting married in the morning\, and the ambitious Figaro (servant\, barber\, professional mischief-maker) couldn’t be happier. But with everybody scheming to come between him and his bride\, Figaro will need all his cunning to make it down the aisle.  \nThis adaptation of the popular comic tale of love and deceit among the rich and their servants was first written in 18th-century France\, by Pierre-Augustin Caron de Beaumarchais. A writer of satirical comedies\, Beaumarchais is often known for the operatic adaptations of his The Barber of Seville and The Marriage of Figaro by Rossini and Mozart respectively. \n \n\nDIRECTORS\nSimon Corvan & Kathleen Yorston \nCAST\nFigaro … Jason Sharland\nSuzanne … Liana Hanson\nCount Almaviva … Brayden Argent\nCountess Almaviva … Rhiannon Said\nDoctor Bartholo … John Balchin\nMarceline … Marion Jones\nFanchette … Cerys Gandhi\nCherubin/Doublemain … Daniel Coster\nBazile/Antonio/Bridoison … David Adams
URL:https://growltheatre.org.au/event/figaro/
LOCATION:Windsor School of Arts\, 381 Lutwyche Rd\, Windsor\, QLD\, 4030\, Australia
CATEGORIES:Play
ATTACH;FMTTYPE=image/jpeg:https://growltheatre.org.au/wp-content/uploads/2017/12/Figaro-webimage-landscape-nodetails.jpg
ORGANIZER;CN="Growl Theatre":MAILTO:boxoffice@growltheatre.org.au
END:VEVENT
BEGIN:VEVENT
DTSTART;TZID=Australia/Melbourne:20180223T193000
DTEND;TZID=Australia/Melbourne:20180310T220000
DTSTAMP:20260424T064412
CREATED:20171030T100919Z
LAST-MODIFIED:20180528T011922Z
UID:3118-1519414200-1520719200@growltheatre.org.au
SUMMARY:Hamlet
DESCRIPTION:Hamlet\nWritten by William Shakespeare. Adapted by James Elliott. \nAn all-female cast perform an adaptation of Shakespeare’s famous tragedy which explores the existential relationship between character and actor\, actor and soul\, and soul and audience. \nSomething is rotten in the state of Denmark. Upon the death of his father\, and the subsequent remarrying of his mother to his uncle\, Prince Hamlet of Denmark wrestles with the question of moral action. The appearance of a ghost resembling his late  father\, instructing him to revenge his most foul and unnatural murder\, sends Hamlet into an existential torment of action and inaction\, of revenge\, and of a mad duty bound to the purgation of his soul. Will he kill his uncle to revenge his father\, or will his inactions cost him much much more? \nThis adaptation of Hamlet\, played by an all female cast\, looks at the existential relationship between actor and character\, character and soul\, and soul and actor. The question is asked: “What if Hamlet became aware that his existence is fictional; merely a character in a play?” \nWhat follows is a perspective of Shakespeare’s tragedy aligns the motivations of our hero through the lens of a person who knows their death is eternal\, whose body is unbound\, and whose life is but a walking shadow\, a poor player who struts and frets their hour upon the stage until they are heard no more. \nCast\nHamlet: Rachel Layt\nOphelia: Bek Schmidt\nClaudius: Alexia Suttor\nGertrude: Bianca Reynolds\nPolonia: Leisa Bye\nLaertes: Megan Bennett\nRosencrantz and Guildenstern: Siobhan Finniss and Stephanie Hampson\nGravedigger/Ghost: Ellen Hardisty
URL:https://growltheatre.org.au/event/hamlet/
LOCATION:Windsor School of Arts\, 381 Lutwyche Rd\, Windsor\, QLD\, 4030\, Australia
CATEGORIES:Play
ATTACH;FMTTYPE=image/jpeg:https://growltheatre.org.au/wp-content/uploads/2017/10/Hamlet_teaserimage2-1.jpg
ORGANIZER;CN="Growl Theatre":MAILTO:boxoffice@growltheatre.org.au
END:VEVENT
BEGIN:VEVENT
DTSTART;TZID=Australia/Melbourne:20171020T193000
DTEND;TZID=Australia/Melbourne:20171028T220000
DTSTAMP:20260424T064412
CREATED:20170728T022757Z
LAST-MODIFIED:20171030T100946Z
UID:2927-1508527800-1509228000@growltheatre.org.au
SUMMARY:Italian Language Production
DESCRIPTION:TONIGHT’S SHOW IS SOLD OUT\nFriday 27 October is sold out. Limited seats remain for Saturday night’s show. Get in fast!\nAs part of celebrations for the 17th International Italian Language Week … Under the patronage of the President of the Italian Republic. \nGrowl Theatre and Danteatro Brisbane present an Italian language production (with English surtitles). \n \n\nAfter 2 successful years of bringing French language plays to the stage\, we’re proud to present a production entirely in Italian! With English translation displayed above the stage (surtitles) for those who don’t speak the language\, or for hearing impaired. \nThe production will consist of two one act plays: L’uomo nudo e l’uomo in frak (One Was Nude and One Wore Tails) and Il carnevale degli insetti (Carnival of the Insects). \n \nL’uomo nudo e l’uomo in frak\nIn questa breve e sorprendente farsa di Fo (Premio Nobel 1997)\, ci troviamo partecipi di una strana vicenda che coinvolge e sconvolge la normale e monotona vita di un umile spazzino\, il quale comincerà a riconsiderare la sua posizione umana e sociale in questo pazzo mondo. La farsa comincia con un profondo dialogo sulla vita e sulla condizione umana tra due colleghi spazzini e dopo attente considerazioni uno di loro in particolare comincia a credere fermamente di non essere solo un umile raccoglitore di immondizie ma\, forse forse\, di essere Dio in persona! Questo gli tornerà utile quando si troverà ad affrontare il problema di un uomo nudo nascosto nel suo bidone? L’uomo nudo è un nobile\, uno di quelli che indossano il frac\, ma sicuro le sue scelte di vita\, che l’hanno portato ad intrufolarsi e a nascondersi tra la sporcizia delle strade\, provano che forse non sia poi tanto diverso da ogni altro uomo. Questa farsa possiede la carica della clowneria e dell’irreverenza tipiche degli scritti di Fo\, ma anche un’atmosfera quasi malinconica e di certo può esser considerata parte del teatro dell’assurdo viste le situazioni che i suoi personaggi si trovano ad affrontare. Una rappresentazione leggera ed entusiasmante che ci lascia un bel sorriso anche se un po’ amaro. Ma questo\, non accade ogni volta che ci si trova faccia a faccia con la mera esistenza umana? \nOne Was Nude and One Wore Tails\nIn this short and surprising farce by Dario Fo (winner of the Nobel Prize for Literature\, 1997) we get caught up in a sequence of events that upset the monotonous everyday life of a humble streetcleaner\, as he starts to reconsider his social position in this crazy world. The farce begins with a deep philosophical conversation between two street cleaners on life and the human condition\, which leads one of them to believe that he is not just a rubbish collector but perhaps God personified! But will this be any use to him when he has to deal with a naked man hidden in his bin? The naked man in question is an aristocrat\, usually elegantly dressed in top hat and tails\, but his decisions in life – which have brought about this sneaking into the bin and hiding among the street rubbish – suggest he is perhaps not so different from everyone else. This farce has the clowning\, irreverent energy typical of Fo’s work\, but also a melancholy atmosphere\, and belongs in the realm of theatre of the absurd given the situations and problems its characters face. A light and stimulating performance that leaves us smiling\, if somewhat painfully. But isn’t that always the case when we come face to face with mere human existence? \nIl carnevale degli insetti\nIl carnevale degli insetti rappresenta un’inversione del mondo: la condizione umana vista attraverso gli occhi degli insetti. Sono proprio loro blatte\, farfalle\, api\, zanzare e ragni a prendere la parola\, a raccontare le proprie disavventure e sofferenze\, a narrare la difficile coesistenza con una razza umana intenta a distruggere la natura e l’ambiente. Dalla penna di Stefano Benni\, uno dei più stimati autori italiani contemporanei\, scaturisce una critica brillante e divertente\, un manifesto ambientalista dove la risata diventa un antidoto alla crudeltà umana. \nCarnival of the Insects\nCarnival of the Insects is a celebration that turns the world upside down. It is told from the perspective of insects: cockroaches\, bees\, butterflies\, mosquitoes and spiders share their personal journeys of pain and love\, offering insight into their coexistence with us\, and thus into many of today’s global environmental and political concerns. Contemporary Italian author Stefano Benni applies his characteristic irony and wit so that\, in this insect society\, laughter becomes an antidote to human cruelty.
URL:https://growltheatre.org.au/event/italian-language-production/
LOCATION:Windsor School of Arts\, 381 Lutwyche Rd\, Windsor\, QLD\, 4030\, Australia
ATTACH;FMTTYPE=image/jpeg:https://growltheatre.org.au/wp-content/uploads/2017/07/CarnivalofInsects_webnodetails-1.jpg
END:VEVENT
BEGIN:VEVENT
DTSTART;TZID=Australia/Melbourne:20170825T193000
DTEND;TZID=Australia/Melbourne:20170902T220000
DTSTAMP:20260424T064412
CREATED:20161223T114044Z
LAST-MODIFIED:20170908T033123Z
UID:2609-1503689400-1504389600@growltheatre.org.au
SUMMARY:The Hollow
DESCRIPTION:The final two shows this weekend are now SOLD OUT. Limited seats will be available on the door. Please email boxoffice@growltheatre.org.au to reserve one of these seats. \nIn The Hollow by Agatha Christie\, an unhappy game of romantic follow-the-leader explodes into murder.\n \n\nSYNOPSIS \nAn unhappy game of romantic follow-the-leader explodes into murder one weekend at The Hollow\, home of Sir Henry and Lucy Angkatell. Dr. Cristow is at the center of the trouble when his mistress Henrietta\, ex-mistress Veronica\, and wife Gerda\, simultaneously arrive at The Hollow. Also visiting are Edward (who is in love with Henrietta) and Midge (who loves Edward). Veronica ardently desires to marry Cristow and succeeds in reopening their affair but is unable to get him to divorce his wife. Veronica unwisely states that if she cannot have him\, no one shall. Within five minutes Cristow is dead. Nearly everyone has a motive and most had the opportunity. Enter Inspector Colquhoun and Sergeant Penny to solve the crime. \nThe cast of The Hollow \nCAST \nSir Henry Angkatell – John Balchin\nLady Angkatell – Kathleen Yorston\nHenrietta Angkatell – Alexia Suttor\nMidge – Emily McCormick\nVeronica Cray – Cara Biffin\nGudgeon – Brayden Argent\nDoris – Keely Sayer\nDr John Cristow – Jon Darbro\nGerda Cristow – Leisa Bye\nEdward Angkatell – Simon Corvan\nInspector Colquhoun – Luke Johnstone\nSergeant Penny – Paul Whelan \n 
URL:https://growltheatre.org.au/event/the-hollow/
LOCATION:Windsor School of Arts\, 381 Lutwyche Rd\, Windsor\, QLD\, 4030\, Australia
ATTACH;FMTTYPE=image/jpeg:https://growltheatre.org.au/wp-content/uploads/2016/12/TheHollow_websiteimage.jpg
END:VEVENT
BEGIN:VEVENT
DTSTART;TZID=Australia/Melbourne:20170722T183000
DTEND;TZID=Australia/Melbourne:20170722T220000
DTSTAMP:20260424T064412
CREATED:20170621T023433Z
LAST-MODIFIED:20170728T021123Z
UID:2903-1500748200-1500760800@growltheatre.org.au
SUMMARY:Trivia Night
DESCRIPTION:Join us for a fun night of trivia and pizza on Saturday 22nd July\, from 6:30pm. \nEmail us to register your team (4-6 people)\, or just come along by yourself\, and we’ll put you at a table with others to form a team. \n$50 per team\, or $10 per person. \n \n  \nWant dinner too? You can get pizza delivered straight to your table from Gusto’s Pizzeria in Grange. \n$14 regular size – 9 inch (8 slices)\n $19 large size – 12 inch (8 slices) \nPizza pre-order required by Friday 21st July.\n Gluten free bases available for extra $3 reg/$4 lge \n  \nENTREES \n\nHERB BREAD four pieces\, mixed herbed butter \nGARLIC BREAD four pieces\, butter\, garlic\n\nMEAT PIZZA \n\nPEPPERONI pizza sauce\, pepperoni\, mozzarella \nHAWAIIAN pizza sauce\, ham\, pineapple\, mozzarella \nAUSSIE pizza sauce\, bacon\, mozzarella\, egg \nMEXICAN pizza sauce\, pepperoni\, white onion\, capsicum\, olives\, garlic\, chilli\, mozzarella \nCAPRICCIOSA pizza sauce\, pepperoni\, mushrooms\, olives\, anchovies\, mozzarella \nSUPREME pizza sauce\, salami\, ham\, onion\, mushrooms\, capsicum\, bacon\, olives\, garlic\, mozzarella \nMEATLOVERS pizza sauce\, salami\, ham\, BBQ sauce swirl\, bacon\, flame-grilled meatballs\, mozzarella \nCALABRESE pizza sauce\, pepperoni\, onion\, mushrooms\, roasted capsicum\, artichoke\, basil\, garlic\, oregano\, bocconcini\, mozzarella\n\nVEGETARIAN PIZZA \n\nVEGETARIAN pizza sauce\, onion\, mushrooms\, capsicum\, sun-dried tomatoes\, pineapple\, olives\, basil\, oregano\, mozzarella\, garlic \nMARGHERITA pizza sauce\, oregano\, fresh garlic\, mozzarella\nFUNGHI FORMAGGIO white sauce\, button\, portabella\, shitaki mushrooms\, shallots\, oregano\, garlic\, gorgonzola\nBELLA VERDE pizza sauce\, baby spinach\, mushrooms\, sweet potato\, roasted capsicum\, pine nuts\, oregano\, fetta \nCOUNTRY FIRED PUMPKIN pizza sauce\, baby spinach\, spanish onion\, roasted pumpkin\, garlic\, thyme\, cherry tomatoes\, roasted pistachios\, fetta\, mozzarella \n\nCHICKEN PIZZA \n\nCHICKEN TROPICAL pizza sauce\, chicken breast\, onion\, bacon\, pineapple\, mozzarella \nSATAY satay sauce\, chicken breast\, onion\, mushrooms\, capsicum\, mozzarella\, coriander \nTUSCAN COUNTRY pizza sauce\, chicken breast\, sun-dried tomatoes\, roasted capsicum\, boccocini\, basil\, garlic\, oregano\, mozzarella \nPERSEA AMERICANA cranberry sauce\, chicken breast\, avocado\, haloumi\, mozzarella \nPOLLO FLORENTINE pizza sauce\, baby spinach\, chicken breast\, pine nuts\, sun-dried tomatoes\, roasted capsicum\, oregano\, garlic\, fetta\, mozzarella \nPIRI PIRI pizza sauce\, baby spinach\, spanish onion\, piri piri chicken\, roasted capsicum\, sweet corn\, mozzarella\, gusto’s freshly made ‘piri piri‘ sauce \nTANDOORI pizza sauce\, baby spinach\, spanish onion\, tandoori chicken\, roasted capsicum\, roasted cashews\, mozzarella\, mint yoghurt swirl \nPOLLO FUNGHI FORMAGGIO white sauce\, chicken breast\, button\, portabella\, shitaki mushrooms\, shallots\, oregano\, garlic\, gorgonzola\n\n 
URL:https://growltheatre.org.au/event/trivia-night/
LOCATION:Windsor School of Arts\, 381 Lutwyche Rd\, Windsor\, QLD\, 4030\, Australia
ATTACH;FMTTYPE=image/jpeg:https://growltheatre.org.au/wp-content/uploads/2017/06/trivia-night-webnodetails.jpg
END:VEVENT
BEGIN:VEVENT
DTSTART;TZID=Australia/Melbourne:20170526T193000
DTEND;TZID=Australia/Melbourne:20170603T220000
DTSTAMP:20260424T064412
CREATED:20161222T080340Z
LAST-MODIFIED:20170604T235654Z
UID:2606-1495827000-1496527200@growltheatre.org.au
SUMMARY:Play It Again\, Sam
DESCRIPTION:Woody Allen’s hilarious and actually rather moving comedy\, Play It Again\, Sam brings fabulous 1960s fashion and trade-mark neurotics to the Growl Theatre stage. \n \nSYNOPSIS \nAllan Felix\, film critic and recently-deserted husband\, lives in a lonely apartment and talks to his imaginary idol\, Humphrey Bogart. When his friends Dick and Linda try to set him up with women\, his attempts to be suave and sexy lead to a series of comic disasters – until Allan starts to develop feelings for Linda\, his best friend’s wife…. \n \nCAST \nAllan Felix – James Elliott\nDick Christie – Jacob Phelan\nLinda Christie – Bianca Reynolds\nNancy – Miranda Nelson\nBogart – Brendan James\nDream Sharon/Go-Go Girl/Vanessa/Barbara – Stacey Parviainen\nSharon Lake/Intellectual Girl/Gina – Emily McCormick
URL:https://growltheatre.org.au/event/play-it-again-sam/
LOCATION:Windsor School of Arts\, 381 Lutwyche Rd\, Windsor\, QLD\, 4030\, Australia
ATTACH;FMTTYPE=image/gif:https://growltheatre.org.au/wp-content/uploads/2016/12/PIAS_websiteimage.gif
END:VEVENT
BEGIN:VEVENT
DTSTART;TZID=Australia/Melbourne:20170310T193000
DTEND;TZID=Australia/Melbourne:20170318T220000
DTSTAMP:20260424T064412
CREATED:20161222T062606Z
LAST-MODIFIED:20170401T001654Z
UID:2588-1489174200-1489874400@growltheatre.org.au
SUMMARY:Lend Me A Tenor
DESCRIPTION:Lend Me a Tenor by Ken Ludwig is filled with frenzied hilarity\, filled with mistaken identities\, forbidden romances\, slamming doors\, and a coterie of characters that the New York Times calls “one of the two great farces by a living writer.” \n \nSYNOPSIS\nOn a historic night at the Cleveland Opera Company\, world-famous tenor Tito Morelli is to perform in Otello. Through a series of mishaps\, Tito receives a double dose of tranquilizers\, causing the house manager to believe he is dead and setting off a chain reaction of slapstick and mistaken identity. \nSHOW DATES \nFriday 10th March\, 7:30pm\nSaturday 11th March\, 7:30pm\nSunday 12th March\, 2:00pm (matinee)\nFriday 17th March\, 7:30pm\nSaturday 18th March\, 7:30pm \nCAST \nMax – Noah Bowen\nMaggie – Stacey Parviainen\nMaria – Leisa Bye\nTito – Dene Richards\nDiana – Miranda Nelson\nSaunders – Rob Harvey\nBellhop – Akiwa Cavanagh\nJulia – Hazel Mepham
URL:https://growltheatre.org.au/event/lend-me-a-tenor/
LOCATION:Windsor School of Arts\, 381 Lutwyche Rd\, Windsor\, QLD\, 4030\, Australia
ATTACH;FMTTYPE=image/gif:https://growltheatre.org.au/wp-content/uploads/2016/12/LMAT_websiteimage.gif
END:VEVENT
END:VCALENDAR