BEGIN:VCALENDAR
VERSION:2.0
PRODID:-//Growl Theatre - ECPv6.15.17.1//NONSGML v1.0//EN
CALSCALE:GREGORIAN
METHOD:PUBLISH
X-ORIGINAL-URL:https://growltheatre.org.au
X-WR-CALDESC:Events for Growl Theatre
REFRESH-INTERVAL;VALUE=DURATION:PT1H
X-Robots-Tag:noindex
X-PUBLISHED-TTL:PT1H
BEGIN:VTIMEZONE
TZID:Australia/Melbourne
BEGIN:STANDARD
TZOFFSETFROM:+1100
TZOFFSETTO:+1000
TZNAME:AEST
DTSTART:20210403T160000
END:STANDARD
BEGIN:DAYLIGHT
TZOFFSETFROM:+1000
TZOFFSETTO:+1100
TZNAME:AEDT
DTSTART:20211002T160000
END:DAYLIGHT
BEGIN:STANDARD
TZOFFSETFROM:+1100
TZOFFSETTO:+1000
TZNAME:AEST
DTSTART:20220402T160000
END:STANDARD
BEGIN:DAYLIGHT
TZOFFSETFROM:+1000
TZOFFSETTO:+1100
TZNAME:AEDT
DTSTART:20221001T160000
END:DAYLIGHT
BEGIN:STANDARD
TZOFFSETFROM:+1100
TZOFFSETTO:+1000
TZNAME:AEST
DTSTART:20230401T160000
END:STANDARD
BEGIN:DAYLIGHT
TZOFFSETFROM:+1000
TZOFFSETTO:+1100
TZNAME:AEDT
DTSTART:20230930T160000
END:DAYLIGHT
END:VTIMEZONE
BEGIN:VTIMEZONE
TZID:Australia/Brisbane
BEGIN:STANDARD
TZOFFSETFROM:+1000
TZOFFSETTO:+1000
TZNAME:AEST
DTSTART:20220101T000000
END:STANDARD
END:VTIMEZONE
BEGIN:VEVENT
DTSTART;TZID=Australia/Melbourne:20221028T193000
DTEND;TZID=Australia/Melbourne:20221112T193000
DTSTAMP:20260424T091011
CREATED:20211213T040556Z
LAST-MODIFIED:20221102T014823Z
UID:5046-1666985400-1668281400@growltheatre.org.au
SUMMARY:The Savannah Sipping Society
DESCRIPTION:The Savannah Sipping Society\nby Jessie Jones\, Nicholas Hope\, Jamie Wooten\nDirected by Jason Sharland \nAnother laugh-a-minute comedy from the Jones\, Hope & Wooten team. \nSynopsis\nIn this delightful\, touching comedy\, four unique Southern women\, all needing to escape the sameness of their day-to-day routines\, are drawn together by Fate—and an impromptu happy hour—and decide it’s high time to reclaim the enthusiasm for life they’ve lost through the years. Over the course of six months\, filled with laughter\, hilarious misadventures\, and the occasional liquid refreshment\, these middle-aged women successfully bond and find the confidence to jumpstart their new lives. \nBOOK TICKETS\nShow Dates\n\n28\, 29 Oct\, 4\, 5\, 6\, 11\, 12 November 2022 \nCast\nRanda Covington … Betsy Appelhof\nDot Haigler … Claire Marchesi\nMarlafaye Mosley … Leisa Bye\nJinx Jenkins … Rhiannon Said \nCrew\nDirector … Jason Sharland\nAssistant Director … Rebecca McMahon\nStage Manager … Tom Glassock \n\nBOOK TICKETS
URL:https://growltheatre.org.au/event/the-savannah-sipping-society/
LOCATION:Windsor School of Arts\, 381 Lutwyche Rd\, Windsor\, QLD\, 4030\, Australia
CATEGORIES:Play
ATTACH;FMTTYPE=image/jpeg:https://growltheatre.org.au/wp-content/uploads/2021/12/Savannah-Sipping-Landscape.jpg
ORGANIZER;CN="Growl Theatre":MAILTO:boxoffice@growltheatre.org.au
END:VEVENT
BEGIN:VEVENT
DTSTART;TZID=Australia/Brisbane:20230304T193000
DTEND;TZID=Australia/Brisbane:20230318T193000
DTSTAMP:20260424T091011
CREATED:20221019T055456Z
LAST-MODIFIED:20230314T195258Z
UID:5381-1677958200-1679167800@growltheatre.org.au
SUMMARY:A Comedy of Tenors
DESCRIPTION:A Comedy of Tenors\nby Ken Ludwig\nDirected by Leisa Bye & Marion Jones \nSynopsis\nParis\, 1934. One hotel suite\, four tenors\, two wives\, three girlfriends\, and a soccer stadium filled with screaming fans. What could possibly go wrong? It’s 1930s Paris and the stage is set for the concert of the century — as long as producer Henry Saunders can keep the amorous Italian superstar and his hot-blooded wife from causing runaway chaos. Prepare for an uproarious ride\, full of mistaken identities\, blissful romance and madcap delight. \nOne hotel suite\, four tenors\, two wives\, three girlfriends\, and a soccer stadium filled with screaming fans. What could possibly go wrong? \nIt’s 1930s Paris and the stage is set for the concert of the century—as long as producer Henry Saunders can keep the amorous Italian superstar Tito Merelli and his hot-blooded wife Maria from causing runaway chaos. \nFilled with characters from Ken Ludwig’s famous Lend Me A Tenor\, this new addition to the Ludwig canon is an uproarious ride full of mistaken identities\, blissful romance and madcap delight. \nShow Dates\n\n4\, 5\, 10\, 11\, 12\, 17\, 18 March 2023 \nCast\nHenry Saunders … Brad Ashwood\nMax … Thomas Coade\nTito Merelli/Beppo … Brendan James\nMaria Merelli … Aerlyn O’Brien\nCarlo Nucci … Tyler Shae\nMimi Merelli … Ashleigh Horsfield\nTatiana Racòn … Shirley Moran \nCrew\nDirectors … Leisa Bye\, Marion Jones\nStage Manager … Rebecca McMahon\nAssistant Stage Manager … Tom Glassock\nSet Designer … Jason Sharland \n\n 
URL:https://growltheatre.org.au/event/a-comedy-of-tenors/
LOCATION:Windsor School of Arts\, 381 Lutwyche Rd\, Windsor\, QLD\, 4030\, Australia
CATEGORIES:Play
ATTACH;FMTTYPE=image/jpeg:https://growltheatre.org.au/wp-content/uploads/2022/10/COMEDY-OF-TENORS-Landscape-1.jpg
ORGANIZER;CN="Growl Theatre":MAILTO:boxoffice@growltheatre.org.au
END:VEVENT
BEGIN:VEVENT
DTSTART;TZID=Australia/Brisbane:20230701T193000
DTEND;TZID=Australia/Brisbane:20230715T193000
DTSTAMP:20260424T091011
CREATED:20221019T055856Z
LAST-MODIFIED:20230501T005736Z
UID:5384-1688239800-1689449400@growltheatre.org.au
SUMMARY:Rope
DESCRIPTION:Rope\nby Patrick Hamilton\nDirected by Brendan James & Charles Langford \nTickets On Sale Now \nSynopsis\nA brilliantly tense play from Patrick Hamilton\, the author of Gaslight\, which was performed by Growl Theatre in 2022.  \nBelieving themselves to be intellectually superior to their contemporaries\, two flatmates murder their friend purely to see if they can get away with it. \nThey then throw a cocktail party\, serving food from the top of the trunk where they have hidden his body. Tension and suspicions increase as the evening wears on. \nShow Dates\n\n1\, 2\, 7\, 8\, 9\, 14\, 15 July 2023 \nCast\nWyndham Brandon … Connor Kenny\nCharles Granillo … Oliver Cameron\nRupert Cadell … Luke Johnstone\nKenneth Raglan … Thomas Coade\nLeila Arden … Taylor Stuart\nSir Johnstone Kentley … Neil Richards\nMrs Debenham … Marion Jones\nSabot … Aurélien Ritter \nCrew\nDirectors … Brendan James\, Charles Langford\nStage Manager … Marion Jones\nLighting/Sound … Catherine Sturk \n\n 
URL:https://growltheatre.org.au/event/rope/
LOCATION:Windsor School of Arts\, 381 Lutwyche Rd\, Windsor\, QLD\, 4030\, Australia
CATEGORIES:Play
ATTACH;FMTTYPE=image/jpeg:https://growltheatre.org.au/wp-content/uploads/2022/10/ROPE-Landscape-2.jpg
ORGANIZER;CN="Growl Theatre":MAILTO:boxoffice@growltheatre.org.au
END:VEVENT
END:VCALENDAR