BEGIN:VCALENDAR
VERSION:2.0
PRODID:-//Growl Theatre - ECPv4.5.1//NONSGML v1.0//EN
CALSCALE:GREGORIAN
METHOD:PUBLISH
X-WR-CALNAME:Growl Theatre
X-ORIGINAL-URL:http://growltheatre.org.au
X-WR-CALDESC:Events for Growl Theatre
BEGIN:VEVENT
DTSTART;TZID=UTC+10:20190823T193000
DTEND;TZID=UTC+10:20190907T193000
DTSTAMP:20190226T185420
CREATED:20181121T063218Z
LAST-MODIFIED:20181121T215123Z
UID:3754-1566588600-1567884600@growltheatre.org.au
SUMMARY:Mary Rose
DESCRIPTION:Mary Rose\nby JM Barrie. Directed by Julie Bray.\n\n'There was always something a little odd about Mary Rose...'\n\nJM Barrie's haunting play about a sinister Scottish island and a girl who never grows up. A soldier sits staring into the fire in an empty\, dark house while an unsettling and tragic history unfolds before him. Written in the aftermath of the First World War\, Barrie's play about loss and the mystery of life is by turns comic\, eerie and heartbreaking.
URL:http://growltheatre.org.au/event/mary-rose/
LOCATION:381 Lutwyche Rd\, Windsor\, QLD\, 4030\, Australia
CATEGORIES:Play
ATTACH;FMTTYPE=image/jpeg:http://growltheatre.org.au/wp-content/uploads/2018/11/maryrose-eventbanner.jpg
END:VEVENT
END:VCALENDAR